BEGIN:VCALENDAR
VERSION:2.0
PRODID:-//TischTennisParkinson - ECPv6.15.20//NONSGML v1.0//EN
CALSCALE:GREGORIAN
METHOD:PUBLISH
X-WR-CALNAME:TischTennisParkinson
X-ORIGINAL-URL:https://sc-buschhausen-ppp.de
X-WR-CALDESC:Veranstaltungen für TischTennisParkinson
REFRESH-INTERVAL;VALUE=DURATION:PT1H
X-Robots-Tag:noindex
X-PUBLISHED-TTL:PT1H
BEGIN:VTIMEZONE
TZID:Europe/Berlin
BEGIN:DAYLIGHT
TZOFFSETFROM:+0100
TZOFFSETTO:+0200
TZNAME:CEST
DTSTART:20240331T010000
END:DAYLIGHT
BEGIN:STANDARD
TZOFFSETFROM:+0200
TZOFFSETTO:+0100
TZNAME:CET
DTSTART:20241027T010000
END:STANDARD
BEGIN:DAYLIGHT
TZOFFSETFROM:+0100
TZOFFSETTO:+0200
TZNAME:CEST
DTSTART:20250330T010000
END:DAYLIGHT
BEGIN:STANDARD
TZOFFSETFROM:+0200
TZOFFSETTO:+0100
TZNAME:CET
DTSTART:20251026T010000
END:STANDARD
BEGIN:DAYLIGHT
TZOFFSETFROM:+0100
TZOFFSETTO:+0200
TZNAME:CEST
DTSTART:20260329T010000
END:DAYLIGHT
BEGIN:STANDARD
TZOFFSETFROM:+0200
TZOFFSETTO:+0100
TZNAME:CET
DTSTART:20261025T010000
END:STANDARD
BEGIN:DAYLIGHT
TZOFFSETFROM:+0100
TZOFFSETTO:+0200
TZNAME:CEST
DTSTART:20270328T010000
END:DAYLIGHT
BEGIN:STANDARD
TZOFFSETFROM:+0200
TZOFFSETTO:+0100
TZNAME:CET
DTSTART:20271031T010000
END:STANDARD
END:VTIMEZONE
BEGIN:VEVENT
DTSTART;TZID=Europe/Berlin:20251214T101200
DTEND;TZID=Europe/Berlin:20251214T180000
DTSTAMP:20260419T151204
CREATED:20250410T150718Z
LAST-MODIFIED:20250410T151027Z
UID:1609-1765707120-1765735200@sc-buschhausen-ppp.de
SUMMARY:Emscherpokal 2025 am 14.12.25
DESCRIPTION:Der Termin steht: Ende des Jahres probieren wir ein neues Format! Größer\, schneller und komfortabler! \nGemeinsam mit dem DJK Franz-Sales-Haus Essen\, Abteilung Tischtennis-PPP\, werden wir als PPP´s des SC Buschhausen 12 e.V. dieses neue Format probieren. \nMehr dazu auf unserer Seite!\nDie Orga läuft nun an; BITTE immer wieder mal vorbeischauen\, um Neues zu erfahren und sich anzumelden!
URL:https://sc-buschhausen-ppp.de/event/emscherpokal-2025-am-14-12-25/
LOCATION:Sportzentrum Ruhr\, steeler str. 261\, Essen\, Steeler Str. 261\, Essen\, Germany
CATEGORIES:Emscherpokal,Turnier
END:VEVENT
BEGIN:VEVENT
DTSTART;TZID=Europe/Berlin:20251218T191200
DTEND;TZID=Europe/Berlin:20251218T203000
DTSTAMP:20260419T151204
CREATED:20251106T125500Z
LAST-MODIFIED:20251106T125500Z
UID:2754-1766085120-1766089800@sc-buschhausen-ppp.de
SUMMARY:Jahreshauptversammlung 2025 der TT-Abteilung
DESCRIPTION:Do 18.12.2025 19:12 Uhr Jahreshauptversammlung 2025 \nTagesordnung wird nachgereicht!
URL:https://sc-buschhausen-ppp.de/event/jahreshauptversammlung-2025-der-tt-abteilung/
LOCATION:Turnhalle GGS Buschhausen\, Lindnerstr. 220\, Oberhausen\, Germany
CATEGORIES:Verein
END:VEVENT
BEGIN:VEVENT
DTSTART;TZID=Europe/Berlin:20260215T100000
DTEND;TZID=Europe/Berlin:20260215T100000
DTSTAMP:20260419T151204
CREATED:20251222T100559Z
LAST-MODIFIED:20251222T100559Z
UID:3182-1771149600-1771149600@sc-buschhausen-ppp.de
SUMMARY:1. STADA Cup in Dorsten-Hervest
DESCRIPTION:
URL:https://sc-buschhausen-ppp.de/event/1-stada-cup-in-dorsten-hervest/
LOCATION:Dorsten\, Brüderstr. 4\, Dorsten\, Germany\, 46282\, Germany
END:VEVENT
END:VCALENDAR