BEGIN:VCALENDAR
VERSION:2.0
PRODID:-//TischTennisParkinson - ECPv6.15.20//NONSGML v1.0//EN
CALSCALE:GREGORIAN
METHOD:PUBLISH
X-WR-CALNAME:TischTennisParkinson
X-ORIGINAL-URL:https://sc-buschhausen-ppp.de
X-WR-CALDESC:Veranstaltungen für TischTennisParkinson
REFRESH-INTERVAL;VALUE=DURATION:PT1H
X-Robots-Tag:noindex
X-PUBLISHED-TTL:PT1H
BEGIN:VTIMEZONE
TZID:Europe/Berlin
BEGIN:DAYLIGHT
TZOFFSETFROM:+0100
TZOFFSETTO:+0200
TZNAME:CEST
DTSTART:20240331T010000
END:DAYLIGHT
BEGIN:STANDARD
TZOFFSETFROM:+0200
TZOFFSETTO:+0100
TZNAME:CET
DTSTART:20241027T010000
END:STANDARD
BEGIN:DAYLIGHT
TZOFFSETFROM:+0100
TZOFFSETTO:+0200
TZNAME:CEST
DTSTART:20250330T010000
END:DAYLIGHT
BEGIN:STANDARD
TZOFFSETFROM:+0200
TZOFFSETTO:+0100
TZNAME:CET
DTSTART:20251026T010000
END:STANDARD
BEGIN:DAYLIGHT
TZOFFSETFROM:+0100
TZOFFSETTO:+0200
TZNAME:CEST
DTSTART:20260329T010000
END:DAYLIGHT
BEGIN:STANDARD
TZOFFSETFROM:+0200
TZOFFSETTO:+0100
TZNAME:CET
DTSTART:20261025T010000
END:STANDARD
END:VTIMEZONE
BEGIN:VEVENT
DTSTART;VALUE=DATE:20251101
DTEND;VALUE=DATE:20251103
DTSTAMP:20260419T164631
CREATED:20251029T104331Z
LAST-MODIFIED:20251029T104341Z
UID:2725-1761955200-1762127999@sc-buschhausen-ppp.de
SUMMARY:PPP Deutschland-Cup 2025 in Schwabach
DESCRIPTION:AUSGEBUCHT !!!
URL:https://sc-buschhausen-ppp.de/event/ppp-deutschland-cup-2025-in-schwabach/
LOCATION:TV 1848 Schwabach\, Schwabach\, Germany
END:VEVENT
BEGIN:VEVENT
DTSTART;TZID=Europe/Berlin:20251109T120000
DTEND;TZID=Europe/Berlin:20251109T150000
DTSTAMP:20260419T164631
CREATED:20251027T230529Z
LAST-MODIFIED:20251027T230529Z
UID:2701-1762689600-1762700400@sc-buschhausen-ppp.de
SUMMARY:erster gemeinsamer Mini-Turniertag in Castrop-Rauxel
DESCRIPTION:Text tbd \nVerantwortlich Michael Horn
URL:https://sc-buschhausen-ppp.de/event/erster-gemeinsamer-mini-turniertag-in-castrop-rauxel/
LOCATION:Castrop-Rauxel\, Elisabethstr. 1\, Castrop\, NRW\, Germany
END:VEVENT
BEGIN:VEVENT
DTSTART;TZID=Europe/Berlin:20251109T150000
DTEND;TZID=Europe/Berlin:20251109T173000
DTSTAMP:20260419T164631
CREATED:20251027T230211Z
LAST-MODIFIED:20251027T230211Z
UID:2699-1762700400-1762709400@sc-buschhausen-ppp.de
SUMMARY:offener Trainingssonntag in Dorsten
DESCRIPTION:Für ein gutes Miteinander der Parkies-Familie findet unregelmäßig an einem Sonntag ein gemeinsames Training der benachbarten und befreundeten Vereine statt
URL:https://sc-buschhausen-ppp.de/event/offener-trainingssonntag-in-dorsten/
LOCATION:Dorsten\, Brüderstr. 4\, Dorsten\, Germany\, 46282\, Germany
END:VEVENT
END:VCALENDAR