BEGIN:VCALENDAR
VERSION:2.0
PRODID:-//TischTennisParkinson - ECPv6.15.20//NONSGML v1.0//EN
CALSCALE:GREGORIAN
METHOD:PUBLISH
X-WR-CALNAME:TischTennisParkinson
X-ORIGINAL-URL:https://sc-buschhausen-ppp.de
X-WR-CALDESC:Veranstaltungen für TischTennisParkinson
REFRESH-INTERVAL;VALUE=DURATION:PT1H
X-Robots-Tag:noindex
X-PUBLISHED-TTL:PT1H
BEGIN:VTIMEZONE
TZID:Europe/Berlin
BEGIN:DAYLIGHT
TZOFFSETFROM:+0100
TZOFFSETTO:+0200
TZNAME:CEST
DTSTART:20240331T010000
END:DAYLIGHT
BEGIN:STANDARD
TZOFFSETFROM:+0200
TZOFFSETTO:+0100
TZNAME:CET
DTSTART:20241027T010000
END:STANDARD
BEGIN:DAYLIGHT
TZOFFSETFROM:+0100
TZOFFSETTO:+0200
TZNAME:CEST
DTSTART:20250330T010000
END:DAYLIGHT
BEGIN:STANDARD
TZOFFSETFROM:+0200
TZOFFSETTO:+0100
TZNAME:CET
DTSTART:20251026T010000
END:STANDARD
BEGIN:DAYLIGHT
TZOFFSETFROM:+0100
TZOFFSETTO:+0200
TZNAME:CEST
DTSTART:20260329T010000
END:DAYLIGHT
BEGIN:STANDARD
TZOFFSETFROM:+0200
TZOFFSETTO:+0100
TZNAME:CET
DTSTART:20261025T010000
END:STANDARD
END:VTIMEZONE
BEGIN:VEVENT
DTSTART;VALUE=DATE:20250501
DTEND;VALUE=DATE:20250505
DTSTAMP:20260420T010654
CREATED:20241027T165620Z
LAST-MODIFIED:20241027T165741Z
UID:738-1746057600-1746403199@sc-buschhausen-ppp.de
SUMMARY:3. Eystrup Open 2025
DESCRIPTION:International offenes Tischtennisturnier für Menschen mit Parkinson. \n\nVom 1. – 4. Mai 2025 wird das Tischtennis – Turnier für Parkinson Erkrankte in Eystrup stattfinden. \nAusschreibung und Bewerbung zum Turnier ab 26.10.2024 \n  \nKontakt\nLars Rokitta\n0151-46273560  \nAustragungsort \nTurnhallen in EYSTRUP\nan der Gretel-Bergmann-Schule\nHauptstraße.44\n27324 EYSTRUP
URL:https://sc-buschhausen-ppp.de/event/3-eystrup-open-2025/
LOCATION:Eystrup\, Hauptstr. 44\, Eystrup\, 27324\, Germany
END:VEVENT
BEGIN:VEVENT
DTSTART;VALUE=DATE:20250504
DTEND;VALUE=DATE:20250512
DTSTAMP:20260420T010654
CREATED:20250213T170506Z
LAST-MODIFIED:20250219T111518Z
UID:1407-1746316800-1747007999@sc-buschhausen-ppp.de
SUMMARY:1. STADA-Cup Teneriffa 11.5.25 (Trainingscamp 5.5.-10.5.25)
DESCRIPTION:Am 11.05.2025\n            10.30 Uhr Turnierbeginn\n\n\nTischtennis mit Freunden auf Teneriffa -eine super Idee.\n\n\nBereits im November des vergangenen Jahres starteten wir mit dem 1. Trainingscamp auf Teneriffa – und weil es uns so gut gefiel\, folgt nun das zweite! \nUnser Trainer Philipp Floritz (www.floritz-akademie.de) leitet das Training und wird je nach Gruppengröße noch 1 bis 2 weitere Trainer mitbringen. \nZu Eurer INFORMATION gibt es den Flyer von Philipp sowie die Ausschreibung des Hotels. \n\nDie Unterkunft im Hotel Mar y Sol ist nicht verpflichtend und kann nach eigenen Wünschen auch selbst ausgesucht werden.\nAnmeldungen bitte bis spätestens 28.02.2025.\n\nBei Fragen gerne jederzeit bei mir melden.\nGanz liebe Grüße Andrea Schmidt (Stützpunkt 77955 Ettenheim) 📞 0151/152 45 169
URL:https://sc-buschhausen-ppp.de/event/1-stada-cup-teneriffa-11-5-25-training-5-5-10-5-25/
LOCATION:KURHOTEL MAR Y SOL S.L.\, Avenida Amsterdam 8             \, Los Cristianos/Teneriffa\, Spain
END:VEVENT
BEGIN:VEVENT
DTSTART;VALUE=DATE:20250529
DTEND;VALUE=DATE:20250602
DTSTAMP:20260420T010654
CREATED:20241027T170741Z
LAST-MODIFIED:20241027T170741Z
UID:747-1748476800-1748822399@sc-buschhausen-ppp.de
SUMMARY:QUOOKER PPP German Open 2025
DESCRIPTION:Wir freuen uns auf rund 240 Teilnehmende\, die in drei Klassen im Einzel\, Doppel und Mixed antreten werden. Die Abwicklung von Ausschreibung\, Anmeldung\, Registrierung und Turnierdurchführung liegt dabei in den Händen von PingPongParkinson Deutschland e.V. \nBis Ihr Euch anmelden könnt\, dürfte allerdings noch etwas Zeit vergehen. Natürlich erfahrt Ihr es rechtzeitig auf meiner Homepage . \nDer PingPongParkinson (PPP) Stützpunkt Oldenburg und der Hundsmühler TV freuen uns riesig darüber\, die German Open 2025 Veranstaltung mit dem PPP Deutschland e.V. vom 29. Mai bis 01. Juni 2025 in Oldenburg (Olbg) ausrichten zu dürfen
URL:https://sc-buschhausen-ppp.de/event/quooker-ppp-german-open-2025/
LOCATION:Oldenburg\, Flötenstraße 60\, Oldenburg (Oldenburg)\, 26125\, Germany
END:VEVENT
END:VCALENDAR