BEGIN:VCALENDAR
VERSION:2.0
PRODID:-//TischTennisParkinson - ECPv6.15.20//NONSGML v1.0//EN
CALSCALE:GREGORIAN
METHOD:PUBLISH
X-ORIGINAL-URL:https://sc-buschhausen-ppp.de
X-WR-CALDESC:Veranstaltungen für TischTennisParkinson
REFRESH-INTERVAL;VALUE=DURATION:PT1H
X-Robots-Tag:noindex
X-PUBLISHED-TTL:PT1H
BEGIN:VTIMEZONE
TZID:Europe/Berlin
BEGIN:DAYLIGHT
TZOFFSETFROM:+0100
TZOFFSETTO:+0200
TZNAME:CEST
DTSTART:20240331T010000
END:DAYLIGHT
BEGIN:STANDARD
TZOFFSETFROM:+0200
TZOFFSETTO:+0100
TZNAME:CET
DTSTART:20241027T010000
END:STANDARD
BEGIN:DAYLIGHT
TZOFFSETFROM:+0100
TZOFFSETTO:+0200
TZNAME:CEST
DTSTART:20250330T010000
END:DAYLIGHT
BEGIN:STANDARD
TZOFFSETFROM:+0200
TZOFFSETTO:+0100
TZNAME:CET
DTSTART:20251026T010000
END:STANDARD
BEGIN:DAYLIGHT
TZOFFSETFROM:+0100
TZOFFSETTO:+0200
TZNAME:CEST
DTSTART:20260329T010000
END:DAYLIGHT
BEGIN:STANDARD
TZOFFSETFROM:+0200
TZOFFSETTO:+0100
TZNAME:CET
DTSTART:20261025T010000
END:STANDARD
END:VTIMEZONE
BEGIN:VEVENT
DTSTART;TZID=Europe/Berlin:20251218T191200
DTEND;TZID=Europe/Berlin:20251218T203000
DTSTAMP:20260419T164750
CREATED:20251106T125500Z
LAST-MODIFIED:20251106T125500Z
UID:2754-1766085120-1766089800@sc-buschhausen-ppp.de
SUMMARY:Jahreshauptversammlung 2025 der TT-Abteilung
DESCRIPTION:Do 18.12.2025 19:12 Uhr Jahreshauptversammlung 2025 \nTagesordnung wird nachgereicht!
URL:https://sc-buschhausen-ppp.de/event/jahreshauptversammlung-2025-der-tt-abteilung/
LOCATION:Turnhalle GGS Buschhausen\, Lindnerstr. 220\, Oberhausen\, Germany
CATEGORIES:Verein
END:VEVENT
END:VCALENDAR