BEGIN:VCALENDAR
VERSION:2.0
PRODID:-//TischTennisParkinson - ECPv6.15.20//NONSGML v1.0//EN
CALSCALE:GREGORIAN
METHOD:PUBLISH
X-WR-CALNAME:TischTennisParkinson
X-ORIGINAL-URL:https://sc-buschhausen-ppp.de
X-WR-CALDESC:Veranstaltungen für TischTennisParkinson
REFRESH-INTERVAL;VALUE=DURATION:PT1H
X-Robots-Tag:noindex
X-PUBLISHED-TTL:PT1H
BEGIN:VTIMEZONE
TZID:Europe/Berlin
BEGIN:DAYLIGHT
TZOFFSETFROM:+0100
TZOFFSETTO:+0200
TZNAME:CEST
DTSTART:20240331T010000
END:DAYLIGHT
BEGIN:STANDARD
TZOFFSETFROM:+0200
TZOFFSETTO:+0100
TZNAME:CET
DTSTART:20241027T010000
END:STANDARD
BEGIN:DAYLIGHT
TZOFFSETFROM:+0100
TZOFFSETTO:+0200
TZNAME:CEST
DTSTART:20250330T010000
END:DAYLIGHT
BEGIN:STANDARD
TZOFFSETFROM:+0200
TZOFFSETTO:+0100
TZNAME:CET
DTSTART:20251026T010000
END:STANDARD
BEGIN:DAYLIGHT
TZOFFSETFROM:+0100
TZOFFSETTO:+0200
TZNAME:CEST
DTSTART:20260329T010000
END:DAYLIGHT
BEGIN:STANDARD
TZOFFSETFROM:+0200
TZOFFSETTO:+0100
TZNAME:CET
DTSTART:20261025T010000
END:STANDARD
END:VTIMEZONE
BEGIN:VEVENT
DTSTART;VALUE=DATE:20251017
DTEND;VALUE=DATE:20251020
DTSTAMP:20260419T194029
CREATED:20250306T111930Z
LAST-MODIFIED:20251001T133811Z
UID:1508-1760659200-1760918399@sc-buschhausen-ppp.de
SUMMARY:MitMensch 2025 – inklusives TT-Turnier
DESCRIPTION:Inklusives Einzel\nTermin: Sonntag\, 19.10.2025  \nBeginn: 10:00 Uhr – Ende: ca. 16:00 Uhr  \nKonkurrenz-Art: Inklusiver Einzel – Wettbewerb (Damen / Herren / Divers)  \nStartrecht: – Sportler mit geistiger Behinderung\, Lernbehinderung  \nund/oder psychischer Beeinträchtigung (m/w/d)  \nunabhängig des sportlichen Leistungsniveaus  \n– Hobby-Sportler ohne Behinderung  \n– Vereins-Spieler mit einem QTTR-Wert: 0 – 1250  \nTeilnehmerfeld: Maximal 124 Starter:innen  \nSpielsystem: Vorrunde  \n3er-/4er-Gruppen im System „Jeder gegen Jeden“  \nGruppen – 1. & Gruppen – 2. Hauptrunde  \nGruppen – 3. / 4. Trostrunde  \nHauptrunde / Trostrunde  \nEinfaches K.O.-System  \nGewinnsätze: 2 Gewinnsätze (GS) / Hauptrunde: 3 GS ab Viertelfinale 
URL:https://sc-buschhausen-ppp.de/event/mitmensch-2025-inklusives-tt-turnier/
LOCATION:Sportzentrum Ruhr\, steeler str. 261\, Essen\, Steeler Str. 261\, Essen\, Germany
CATEGORIES:Turnier
END:VEVENT
END:VCALENDAR