BEGIN:VCALENDAR
VERSION:2.0
PRODID:-//TischTennisParkinson - ECPv6.15.20//NONSGML v1.0//EN
CALSCALE:GREGORIAN
METHOD:PUBLISH
X-ORIGINAL-URL:https://sc-buschhausen-ppp.de
X-WR-CALDESC:Veranstaltungen für TischTennisParkinson
REFRESH-INTERVAL;VALUE=DURATION:PT1H
X-Robots-Tag:noindex
X-PUBLISHED-TTL:PT1H
BEGIN:VTIMEZONE
TZID:Europe/Berlin
BEGIN:DAYLIGHT
TZOFFSETFROM:+0100
TZOFFSETTO:+0200
TZNAME:CEST
DTSTART:20240331T010000
END:DAYLIGHT
BEGIN:STANDARD
TZOFFSETFROM:+0200
TZOFFSETTO:+0100
TZNAME:CET
DTSTART:20241027T010000
END:STANDARD
BEGIN:DAYLIGHT
TZOFFSETFROM:+0100
TZOFFSETTO:+0200
TZNAME:CEST
DTSTART:20250330T010000
END:DAYLIGHT
BEGIN:STANDARD
TZOFFSETFROM:+0200
TZOFFSETTO:+0100
TZNAME:CET
DTSTART:20251026T010000
END:STANDARD
BEGIN:DAYLIGHT
TZOFFSETFROM:+0100
TZOFFSETTO:+0200
TZNAME:CEST
DTSTART:20260329T010000
END:DAYLIGHT
BEGIN:STANDARD
TZOFFSETFROM:+0200
TZOFFSETTO:+0100
TZNAME:CET
DTSTART:20261025T010000
END:STANDARD
END:VTIMEZONE
BEGIN:VEVENT
DTSTART;TZID=Europe/Berlin:20250823T103000
DTEND;TZID=Europe/Berlin:20250823T190000
DTSTAMP:20260419T223014
CREATED:20250526T095659Z
LAST-MODIFIED:20250526T095659Z
UID:1794-1755945000-1755975600@sc-buschhausen-ppp.de
SUMMARY:1. Corbillon-Cup für Mannschaften
DESCRIPTION:Ein international offenes Tischtennisturnier ausschließlich für an Parkinson erkrankte Menschen. \nVom SC Buschhausen sind bisher 2 Mannschaften gemeldet: Ede und Timo sowie Nonno und Gerd
URL:https://sc-buschhausen-ppp.de/event/1-corbillon-cup-fuer-mannschaften/
LOCATION:Geweke-Halle Hagen-Haspe\, Ennepeufer 1\, Hagen\, 58135\, Germany
CATEGORIES:Turnier
END:VEVENT
END:VCALENDAR