BEGIN:VCALENDAR
VERSION:2.0
PRODID:-//TischTennisParkinson - ECPv6.15.20//NONSGML v1.0//EN
CALSCALE:GREGORIAN
METHOD:PUBLISH
X-WR-CALNAME:TischTennisParkinson
X-ORIGINAL-URL:https://sc-buschhausen-ppp.de
X-WR-CALDESC:Veranstaltungen für TischTennisParkinson
REFRESH-INTERVAL;VALUE=DURATION:PT1H
X-Robots-Tag:noindex
X-PUBLISHED-TTL:PT1H
BEGIN:VTIMEZONE
TZID:Europe/Berlin
BEGIN:DAYLIGHT
TZOFFSETFROM:+0100
TZOFFSETTO:+0200
TZNAME:CEST
DTSTART:20240331T010000
END:DAYLIGHT
BEGIN:STANDARD
TZOFFSETFROM:+0200
TZOFFSETTO:+0100
TZNAME:CET
DTSTART:20241027T010000
END:STANDARD
BEGIN:DAYLIGHT
TZOFFSETFROM:+0100
TZOFFSETTO:+0200
TZNAME:CEST
DTSTART:20250330T010000
END:DAYLIGHT
BEGIN:STANDARD
TZOFFSETFROM:+0200
TZOFFSETTO:+0100
TZNAME:CET
DTSTART:20251026T010000
END:STANDARD
BEGIN:DAYLIGHT
TZOFFSETFROM:+0100
TZOFFSETTO:+0200
TZNAME:CEST
DTSTART:20260329T010000
END:DAYLIGHT
BEGIN:STANDARD
TZOFFSETFROM:+0200
TZOFFSETTO:+0100
TZNAME:CET
DTSTART:20261025T010000
END:STANDARD
END:VTIMEZONE
BEGIN:VEVENT
DTSTART;TZID=Europe/Berlin:20250622T100000
DTEND;TZID=Europe/Berlin:20250622T190000
DTSTAMP:20260420T010629
CREATED:20250606T143659Z
LAST-MODIFIED:20250606T143659Z
UID:1915-1750586400-1750618800@sc-buschhausen-ppp.de
SUMMARY:3. STADA-Cup Würselen
DESCRIPTION:Gleich 6 Spieler aus Buschhausen sind bei dem Event dabei!
URL:https://sc-buschhausen-ppp.de/event/3-stada-cup-wuerselen/
LOCATION:Elmar-Harren-Halle\, Krottstraße 62\, Würselen\, Germany
CATEGORIES:STADA-Cup
END:VEVENT
END:VCALENDAR