BEGIN:VCALENDAR
VERSION:2.0
PRODID:-//TischTennisParkinson - ECPv6.15.20//NONSGML v1.0//EN
CALSCALE:GREGORIAN
METHOD:PUBLISH
X-ORIGINAL-URL:https://sc-buschhausen-ppp.de
X-WR-CALDESC:Veranstaltungen für TischTennisParkinson
REFRESH-INTERVAL;VALUE=DURATION:PT1H
X-Robots-Tag:noindex
X-PUBLISHED-TTL:PT1H
BEGIN:VTIMEZONE
TZID:Europe/Berlin
BEGIN:DAYLIGHT
TZOFFSETFROM:+0100
TZOFFSETTO:+0200
TZNAME:CEST
DTSTART:20240331T010000
END:DAYLIGHT
BEGIN:STANDARD
TZOFFSETFROM:+0200
TZOFFSETTO:+0100
TZNAME:CET
DTSTART:20241027T010000
END:STANDARD
BEGIN:DAYLIGHT
TZOFFSETFROM:+0100
TZOFFSETTO:+0200
TZNAME:CEST
DTSTART:20250330T010000
END:DAYLIGHT
BEGIN:STANDARD
TZOFFSETFROM:+0200
TZOFFSETTO:+0100
TZNAME:CET
DTSTART:20251026T010000
END:STANDARD
BEGIN:DAYLIGHT
TZOFFSETFROM:+0100
TZOFFSETTO:+0200
TZNAME:CEST
DTSTART:20260329T010000
END:DAYLIGHT
BEGIN:STANDARD
TZOFFSETFROM:+0200
TZOFFSETTO:+0100
TZNAME:CET
DTSTART:20261025T010000
END:STANDARD
END:VTIMEZONE
BEGIN:VEVENT
DTSTART;TZID=Europe/Berlin:20250122T180000
DTEND;TZID=Europe/Berlin:20250122T210000
DTSTAMP:20260420T082350
CREATED:20241220T123201Z
LAST-MODIFIED:20241220T123201Z
UID:1119-1737568800-1737579600@sc-buschhausen-ppp.de
SUMMARY:Treffen der PingPongParkinson „Familie" des SCB12
DESCRIPTION:Liebe Parkies des Stützpunktes SC Buschhausen 1912 e.V.! \nWir sind mittlerweile echt viele geworden und das ist schön\, sehr schön!\nAllerdings bleibt beim Training oft der Austausch auf der Strecke!\nDeshalb wollen wir uns auch 2025 mit allen treffen\, um mehr über den/die Anderen zu erfahren\, die mit uns die gleiche Krankheit teilen! \n  \nDeshalb ist das Treffen tatsächich nur für die Mitglieder des „SCB12 PPP“ bestimmt. \nWir freuen uns auf uns und einen guten Austausch! \nBitte schickt uns kurz eine Zusage (Absage nur im Ausnahmefall ;-)) ) an: anmeldung@sc-buschhausen-ppp.de \nBeste Grüße Klaus (Timo)
URL:https://sc-buschhausen-ppp.de/event/treffen-der-pingpongparkinson-familie-des-scb12/
LOCATION:Alt-Buschhausen\, Lindnerstr. 191\, Oberhausen\, Germany\, 46149\, Germany
END:VEVENT
END:VCALENDAR